BEGIN:VCALENDAR
VERSION:2.0
PRODID:-//Instituto Círculo Mágico - ECPv5.3.0//NONSGML v1.0//EN
CALSCALE:GREGORIAN
METHOD:PUBLISH
X-WR-CALNAME:Instituto Círculo Mágico
X-ORIGINAL-URL:https://circulomagico.com.br
X-WR-CALDESC:Eventos para Instituto Círculo Mágico
BEGIN:VTIMEZONE
TZID:America/Sao_Paulo
BEGIN:STANDARD
TZOFFSETFROM:-0200
TZOFFSETTO:-0300
TZNAME:-03
DTSTART:20180218T020000
END:STANDARD
BEGIN:DAYLIGHT
TZOFFSETFROM:-0300
TZOFFSETTO:-0200
TZNAME:-02
DTSTART:20181104T030000
END:DAYLIGHT
END:VTIMEZONE
BEGIN:VEVENT
DTSTART;TZID=America/Sao_Paulo:20181021T140000
DTEND;TZID=America/Sao_Paulo:20181021T235900
DTSTAMP:20260421T090034
CREATED:20181006T134515Z
LAST-MODIFIED:20181016T140923Z
UID:2612-1540130400-1540166340@circulomagico.com.br
SUMMARY:Aniversário do Grupo de Apoio Espiritual Maria Menina
DESCRIPTION:Programação: \n13h | Sessão de Biodanza com Ilson Barros.\n15h | Sessão de Tigelas Sonoras com Luiz Duva.\n17h | Benzimentos individuais com o Mentor Romero Salazar. \nApós os benzimentos\, faremos nossa tradicional vigília de Chama Violeta. \nO evento é gratuito e aberto a todos.
URL:https://circulomagico.com.br/agenda/aniversario-2018-10-21/
LOCATION:Instituto Círculo Mágico\, Rua Ambrosina de Macedo\, 74\, São Paulo\, SP
CATEGORIES:Festas e confraternizações
END:VEVENT
END:VCALENDAR