BEGIN:VCALENDAR
VERSION:2.0
PRODID:-//Instituto Círculo Mágico - ECPv5.3.0//NONSGML v1.0//EN
CALSCALE:GREGORIAN
METHOD:PUBLISH
X-WR-CALNAME:Instituto Círculo Mágico
X-ORIGINAL-URL:https://circulomagico.com.br
X-WR-CALDESC:Eventos para Instituto Círculo Mágico
BEGIN:VTIMEZONE
TZID:America/Sao_Paulo
BEGIN:STANDARD
TZOFFSETFROM:-0200
TZOFFSETTO:-0300
TZNAME:-03
DTSTART:20180218T020000
END:STANDARD
BEGIN:DAYLIGHT
TZOFFSETFROM:-0300
TZOFFSETTO:-0200
TZNAME:-02
DTSTART:20181104T030000
END:DAYLIGHT
END:VTIMEZONE
BEGIN:VEVENT
DTSTART;TZID=America/Sao_Paulo:20180915T100000
DTEND;TZID=America/Sao_Paulo:20180915T180000
DTSTAMP:20260420T124023
CREATED:20180908T153928Z
LAST-MODIFIED:20180908T153953Z
UID:2539-1537005600-1537034400@circulomagico.com.br
SUMMARY:Encontro de Constelação Familiar
DESCRIPTION:Constelação Familiar ou Terapia Sistêmica Familiar é um método terapêutico desenvolvido pelo alemão Bert Hellinger. Trata-se de uma terapia breve realizada em grupo ou individualmente\, e aplicada vivencialmente por meio de representantes que componham o sistema Familiar sobre um tema (conflito\, problema etc.) a ser constelado. \nAtravés da Constelação é possível restabelecer a ordem no sistema familiar. O trabalho\, portanto\, é uma oportunidade de descobrir como se está vivendo dentro da família e qual é a responsabilidade que cabe a cada componente. Ao encontrar seu verdadeiro lugar e papel no sistema familiar\, a pessoa constelada pode sentir-se livre e resgatar sua vida com dignidade e totalidade. \nPara constelar\, será cobrado um valor de 260 reais. Demais participantes não pagam.  \nFacilitadora: Maria de Lourdes Neves.
URL:https://circulomagico.com.br/agenda/constelacao-familiar-2018-09-15/
LOCATION:Instituto Círculo Mágico\, Rua Ambrosina de Macedo\, 74\, São Paulo\, SP
CATEGORIES:Encontros
END:VEVENT
END:VCALENDAR