BEGIN:VCALENDAR
VERSION:2.0
PRODID:-//Instituto Círculo Mágico - ECPv5.3.0//NONSGML v1.0//EN
CALSCALE:GREGORIAN
METHOD:PUBLISH
X-WR-CALNAME:Instituto Círculo Mágico
X-ORIGINAL-URL:https://circulomagico.com.br
X-WR-CALDESC:Eventos para Instituto Círculo Mágico
BEGIN:VTIMEZONE
TZID:America/Sao_Paulo
BEGIN:STANDARD
TZOFFSETFROM:-0200
TZOFFSETTO:-0300
TZNAME:-03
DTSTART:20180218T020000
END:STANDARD
BEGIN:DAYLIGHT
TZOFFSETFROM:-0300
TZOFFSETTO:-0200
TZNAME:-02
DTSTART:20181104T030000
END:DAYLIGHT
END:VTIMEZONE
BEGIN:VEVENT
DTSTART;TZID=America/Sao_Paulo:20180807T200000
DTEND;TZID=America/Sao_Paulo:20180807T220000
DTSTAMP:20260420T171445
CREATED:20180714T164611Z
LAST-MODIFIED:20180807T204241Z
UID:2378-1533672000-1533679200@circulomagico.com.br
SUMMARY:Curso de Comunicação Interdimensional VI - aula introdutória
DESCRIPTION:A Comunicação Interdimensional está ao alcance de qualquer ser humano\, mesmo que ele esteja em grande desequilíbrio. É a capacidade de perceber e de se comunicar com seres e realidades que estão fora do Mundo Material\, mas não fora da realidade. Esta primeira aula é gratuita e aberta a todos. \nPara saber mais sobre o tema\, visite a página do curso. \n 
URL:https://circulomagico.com.br/agenda/curso-comunicacao-2018-08-07/
LOCATION:Instituto Círculo Mágico\, Rua Ambrosina de Macedo\, 74\, São Paulo\, SP
CATEGORIES:Cursos
END:VEVENT
END:VCALENDAR