BEGIN:VCALENDAR
VERSION:2.0
PRODID:-//Instituto Círculo Mágico - ECPv5.3.0//NONSGML v1.0//EN
CALSCALE:GREGORIAN
METHOD:PUBLISH
X-WR-CALNAME:Instituto Círculo Mágico
X-ORIGINAL-URL:https://circulomagico.com.br
X-WR-CALDESC:Eventos para Instituto Círculo Mágico
BEGIN:VTIMEZONE
TZID:America/Sao_Paulo
BEGIN:STANDARD
TZOFFSETFROM:-0200
TZOFFSETTO:-0300
TZNAME:-03
DTSTART:20180218T020000
END:STANDARD
BEGIN:DAYLIGHT
TZOFFSETFROM:-0300
TZOFFSETTO:-0200
TZNAME:-02
DTSTART:20181104T030000
END:DAYLIGHT
END:VTIMEZONE
BEGIN:VEVENT
DTSTART;TZID=America/Sao_Paulo:20180428T140000
DTEND;TZID=America/Sao_Paulo:20180428T163000
DTSTAMP:20260421T113400
CREATED:20180412T160615Z
LAST-MODIFIED:20180412T161539Z
UID:2042-1524924000-1524933000@circulomagico.com.br
SUMMARY:Curso de Tarô por Aparecido de Sant'Anna - Aula inaugural gratuita
DESCRIPTION:A palavra “tarô” significa portal\, rota\, caminho. Nesta aula inaugural gratuita\, Aparecido de Sant’Anna desmistificará os mistérios desta técnica de acesso ao inconsciente. \nPara participar\, basta chegar com alguns minutos de antecedência. \nPara saber mais sobre o tarô\, clique aqui.
URL:https://circulomagico.com.br/agenda/curso-de-taro-aparecido-2018-04-28/
LOCATION:Instituto Círculo Mágico\, Rua Ambrosina de Macedo\, 74\, São Paulo\, SP
CATEGORIES:Cursos
END:VEVENT
END:VCALENDAR