BEGIN:VCALENDAR
VERSION:2.0
PRODID:-//Instituto Círculo Mágico - ECPv5.3.0//NONSGML v1.0//EN
CALSCALE:GREGORIAN
METHOD:PUBLISH
X-WR-CALNAME:Instituto Círculo Mágico
X-ORIGINAL-URL:https://circulomagico.com.br
X-WR-CALDESC:Eventos para Instituto Círculo Mágico
BEGIN:VTIMEZONE
TZID:America/Sao_Paulo
BEGIN:STANDARD
TZOFFSETFROM:-0200
TZOFFSETTO:-0300
TZNAME:-03
DTSTART:20180218T020000
END:STANDARD
BEGIN:DAYLIGHT
TZOFFSETFROM:-0300
TZOFFSETTO:-0200
TZNAME:-02
DTSTART:20181104T030000
END:DAYLIGHT
END:VTIMEZONE
BEGIN:VEVENT
DTSTART;TZID=America/Sao_Paulo:20180310T090000
DTEND;TZID=America/Sao_Paulo:20180310T133000
DTSTAMP:20260423T110526
CREATED:20180310T120033Z
LAST-MODIFIED:20180313T224020Z
UID:1527-1520672400-1520688600@circulomagico.com.br
SUMMARY:Curso de Tarô por Marcelino Bessa
DESCRIPTION:Tarô é um baralho ilustrado com figuras simbólicas\, composto por setenta e oito cartas\, divididas em dois grupos principais: os Arcanos Maiores\, com vinte e duas cartas\, e os Arcanos Menores\, com cinquenta e seis cartas. \nPara participar desta aula inaugural\, entre em contato pelo e-mail marcelino.bessa@gmail.com ou pelo WhatsApp (11) 98802-5155.
URL:https://circulomagico.com.br/agenda/curso-de-taro-marcelino-2018-03-10/
LOCATION:Instituto Círculo Mágico\, Rua Ambrosina de Macedo\, 74\, São Paulo\, SP
CATEGORIES:Cursos
END:VEVENT
END:VCALENDAR