BEGIN:VCALENDAR
VERSION:2.0
PRODID:-//Instituto Círculo Mágico - ECPv5.3.0//NONSGML v1.0//EN
CALSCALE:GREGORIAN
METHOD:PUBLISH
X-WR-CALNAME:Instituto Círculo Mágico
X-ORIGINAL-URL:https://circulomagico.com.br
X-WR-CALDESC:Eventos para Instituto Círculo Mágico
BEGIN:VTIMEZONE
TZID:America/Sao_Paulo
BEGIN:STANDARD
TZOFFSETFROM:-0200
TZOFFSETTO:-0300
TZNAME:-03
DTSTART:20180218T020000
END:STANDARD
BEGIN:DAYLIGHT
TZOFFSETFROM:-0300
TZOFFSETTO:-0200
TZNAME:-02
DTSTART:20181104T030000
END:DAYLIGHT
END:VTIMEZONE
BEGIN:VEVENT
DTSTART;TZID=America/Sao_Paulo:20180815T190000
DTEND;TZID=America/Sao_Paulo:20180815T220000
DTSTAMP:20260420T172211
CREATED:20180720T135111Z
LAST-MODIFIED:20180720T180806Z
UID:2417-1534359600-1534370400@circulomagico.com.br
SUMMARY:Curso de Tarô - aula introdutória (turma 1)
DESCRIPTION:O Tarô é um baralho ilustrado com figuras simbólicas\, composto por setenta e oito cartas\, divididas em dois grupos principais: os Arcanos Maiores\, com vinte e duas cartas\, e os Arcanos Menores\, com cinquenta e seis cartas. \nPara participar desta aula inaugural gratuita\, entre em contato pelo e-mail marcelino.bessa@gmail.com ou pelo WhatsApp (11) 98802-5155. \nSegue abaixo o cronograma do curso\, que ocorrerá todas as quartas-feiras\, das 19h às 22h. \n– 1° Aula (15/8): História do Tarô e Introdução aos Arcanos Maiores\n– 2° Aula (22/8): O Louco\, O Mago\, A Papisa\, A Imperatriz\, O Imperador\n– 3° Aula (29/8): O Papa\, Os Enamorados\, O Carro\, A Justiça\, O Eremita\, A Roda da Fortuna\n– 4° Aula (5/9): A Força\, O Enforcado\, A Morte\, A Temperança\, O Diabo\, A Torre\n– 5° Aula (12/9): A Estrela\, A Lua\, O Sol\, O Julgamento\, O Mundo\n– 6° Aula (19/9): Introdução aos Arcanos Menores e Cartas da Corte\n– 7° Aula (26/9): Cartas da Corte\n– 8° Aula (3/10): Naipe de Paus\n– 9° Aula (10/10): Naipe de Copas\n– 10° Aula (17/10): Naipe de Espada\n– 11° Aula (24/10): Naipe de Ouro\n– 12° Aula (31/10): Métodos de Leitura e Tiragens
URL:https://circulomagico.com.br/agenda/curso-de-taro-marcelino-2018-08-15/
LOCATION:Instituto Círculo Mágico\, Rua Ambrosina de Macedo\, 74\, São Paulo\, SP
CATEGORIES:Cursos
END:VEVENT
END:VCALENDAR