BEGIN:VCALENDAR
VERSION:2.0
PRODID:-//Instituto Círculo Mágico - ECPv5.3.0//NONSGML v1.0//EN
CALSCALE:GREGORIAN
METHOD:PUBLISH
X-WR-CALNAME:Instituto Círculo Mágico
X-ORIGINAL-URL:https://circulomagico.com.br
X-WR-CALDESC:Eventos para Instituto Círculo Mágico
BEGIN:VTIMEZONE
TZID:America/Sao_Paulo
BEGIN:STANDARD
TZOFFSETFROM:-0200
TZOFFSETTO:-0300
TZNAME:-03
DTSTART:20180218T020000
END:STANDARD
BEGIN:DAYLIGHT
TZOFFSETFROM:-0300
TZOFFSETTO:-0200
TZNAME:-02
DTSTART:20181104T030000
END:DAYLIGHT
END:VTIMEZONE
BEGIN:VEVENT
DTSTART;TZID=America/Sao_Paulo:20181230T170000
DTEND;TZID=America/Sao_Paulo:20181230T235900
DTSTAMP:20260421T173012
CREATED:20181213T114600Z
LAST-MODIFIED:20181213T114600Z
UID:2793-1546189200-1546214340@circulomagico.com.br
SUMMARY:Festa de Ano Novo
DESCRIPTION:Confraternização para comemorar o Ano Novo. Evento gratuito e aberto a todos.
URL:https://circulomagico.com.br/agenda/festa-de-ano-novo/
LOCATION:Instituto Círculo Mágico\, Rua Ambrosina de Macedo\, 74\, São Paulo\, SP
CATEGORIES:Festas e confraternizações
END:VEVENT
END:VCALENDAR