BEGIN:VCALENDAR
VERSION:2.0
PRODID:-//Instituto Círculo Mágico - ECPv5.3.0//NONSGML v1.0//EN
CALSCALE:GREGORIAN
METHOD:PUBLISH
X-WR-CALNAME:Instituto Círculo Mágico
X-ORIGINAL-URL:https://circulomagico.com.br
X-WR-CALDESC:Eventos para Instituto Círculo Mágico
BEGIN:VTIMEZONE
TZID:America/Sao_Paulo
BEGIN:STANDARD
TZOFFSETFROM:-0200
TZOFFSETTO:-0300
TZNAME:-03
DTSTART:20180218T020000
END:STANDARD
BEGIN:DAYLIGHT
TZOFFSETFROM:-0300
TZOFFSETTO:-0200
TZNAME:-02
DTSTART:20181104T030000
END:DAYLIGHT
END:VTIMEZONE
BEGIN:VEVENT
DTSTART;TZID=America/Sao_Paulo:20180919T200000
DTEND;TZID=America/Sao_Paulo:20180919T220000
DTSTAMP:20260420T142606
CREATED:20180904T151436Z
LAST-MODIFIED:20181006T133505Z
UID:2534-1537387200-1537394400@circulomagico.com.br
SUMMARY:Grupo de estudos sobre a Grande Fraternidade Branca
DESCRIPTION:Neste mês de setembro\, daremos início a um grupo de estudos sobre a Grande Fraternidade Branca. A primeiro data será em 19.09.2018 e os encontros\, todos gratuitos\, acontecerão sempre às terceiras quartas-feiras do mês\, às 20h. Para saber mais sobre a Fraternidade Branca\, clique aqui.
URL:https://circulomagico.com.br/agenda/gfb-2018-09-19/
LOCATION:Instituto Círculo Mágico\, Rua Ambrosina de Macedo\, 74\, São Paulo\, SP
CATEGORIES:Encontros
END:VEVENT
END:VCALENDAR