BEGIN:VCALENDAR
VERSION:2.0
PRODID:-//Instituto Círculo Mágico - ECPv5.3.0//NONSGML v1.0//EN
CALSCALE:GREGORIAN
METHOD:PUBLISH
X-WR-CALNAME:Instituto Círculo Mágico
X-ORIGINAL-URL:https://circulomagico.com.br
X-WR-CALDESC:Eventos para Instituto Círculo Mágico
BEGIN:VTIMEZONE
TZID:America/Sao_Paulo
BEGIN:STANDARD
TZOFFSETFROM:-0200
TZOFFSETTO:-0300
TZNAME:-03
DTSTART:20180218T020000
END:STANDARD
BEGIN:DAYLIGHT
TZOFFSETFROM:-0300
TZOFFSETTO:-0200
TZNAME:-02
DTSTART:20181104T030000
END:DAYLIGHT
END:VTIMEZONE
BEGIN:VEVENT
DTSTART;TZID=America/Sao_Paulo:20181008T200000
DTEND;TZID=America/Sao_Paulo:20181008T210000
DTSTAMP:20260420T200932
CREATED:20181006T130501Z
LAST-MODIFIED:20181006T130501Z
UID:2590-1539028800-1539032400@circulomagico.com.br
SUMMARY:Jornada dos Sete Raios – dia 2
DESCRIPTION:Nos meses de março\, julho e outubro\, a pedido dos Mestres Ascensionados\, costumamos realizar sete dias contínuos de Serviços Sagrados. Chamamos esses eventos de Jornada dos Sete Raios. O segundo dia é dedicado ao raio amarelo dourado. \nPara saber mais\, visite a página da Jornada dos Sete Raios.
URL:https://circulomagico.com.br/agenda/jornada-2018-10-08/
LOCATION:Instituto Círculo Mágico\, Rua Ambrosina de Macedo\, 74\, São Paulo\, SP
CATEGORIES:Jornada dos Sete Raios
END:VEVENT
END:VCALENDAR