BEGIN:VCALENDAR
VERSION:2.0
PRODID:-//Instituto Círculo Mágico - ECPv5.3.0//NONSGML v1.0//EN
CALSCALE:GREGORIAN
METHOD:PUBLISH
X-WR-CALNAME:Instituto Círculo Mágico
X-ORIGINAL-URL:https://circulomagico.com.br
X-WR-CALDESC:Eventos para Instituto Círculo Mágico
BEGIN:VTIMEZONE
TZID:America/Sao_Paulo
BEGIN:STANDARD
TZOFFSETFROM:-0200
TZOFFSETTO:-0300
TZNAME:-03
DTSTART:20180218T020000
END:STANDARD
BEGIN:DAYLIGHT
TZOFFSETFROM:-0300
TZOFFSETTO:-0200
TZNAME:-02
DTSTART:20181104T030000
END:DAYLIGHT
END:VTIMEZONE
BEGIN:VEVENT
DTSTART;TZID=America/Sao_Paulo:20180321T200000
DTEND;TZID=America/Sao_Paulo:20180321T210000
DTSTAMP:20260423T155214
CREATED:20180302T001144Z
LAST-MODIFIED:20180302T001304Z
UID:1168-1521662400-1521666000@circulomagico.com.br
SUMMARY:Jornada dos Sete Raios - dia 4
DESCRIPTION:Nos meses de março\, julho e outubro\, a pedido dos Mestres Ascensionados\, costumamos realizar sete dias contínuos de Serviços Sagrados. Chamamos esses eventos de Jornada dos Sete Raios. O quarto dia é dedicado ao raio branco cristal. \nPara saber mais\, visite a página da Jornada dos Sete Raios.
URL:https://circulomagico.com.br/agenda/jornada-dos-sete-raios-2018-03-21/
LOCATION:Instituto Círculo Mágico\, Rua Ambrosina de Macedo\, 74\, São Paulo\, SP
CATEGORIES:Jornada dos Sete Raios
END:VEVENT
END:VCALENDAR