BEGIN:VCALENDAR
VERSION:2.0
PRODID:-//Instituto Círculo Mágico - ECPv5.3.0//NONSGML v1.0//EN
CALSCALE:GREGORIAN
METHOD:PUBLISH
X-WR-CALNAME:Instituto Círculo Mágico
X-ORIGINAL-URL:https://circulomagico.com.br
X-WR-CALDESC:Eventos para Instituto Círculo Mágico
BEGIN:VTIMEZONE
TZID:America/Sao_Paulo
BEGIN:STANDARD
TZOFFSETFROM:-0300
TZOFFSETTO:-0300
TZNAME:-03
DTSTART:20200101T000000
END:STANDARD
END:VTIMEZONE
BEGIN:VEVENT
DTSTART;TZID=America/Sao_Paulo:20200324T200000
DTEND;TZID=America/Sao_Paulo:20200324T210000
DTSTAMP:20260426T012928
CREATED:20200309T115916Z
LAST-MODIFIED:20200309T115916Z
UID:4057-1585080000-1585083600@circulomagico.com.br
SUMMARY:Jornada dos Sete Raios
DESCRIPTION:Três vezes ao ano\, a pedido dos Mestres Ascensionados\, costumamos realizar sete dias contínuos de Serviços Sagrados. Chamamos esses eventos de Jornada dos Sete Raios. O terceiro dia é dedicado ao raio rosa magenta. Para saber mais\, visite a página da Jornada dos Sete Raios.
URL:https://circulomagico.com.br/agenda/jornada-dos-sete-raios-23/
LOCATION:Instituto Círculo Mágico\, Rua Ambrosina de Macedo\, 74\, São Paulo\, SP
CATEGORIES:Jornada dos Sete Raios
END:VEVENT
END:VCALENDAR