BEGIN:VCALENDAR
VERSION:2.0
PRODID:-//Instituto Círculo Mágico - ECPv5.3.0//NONSGML v1.0//EN
CALSCALE:GREGORIAN
METHOD:PUBLISH
X-WR-CALNAME:Instituto Círculo Mágico
X-ORIGINAL-URL:https://circulomagico.com.br
X-WR-CALDESC:Eventos para Instituto Círculo Mágico
BEGIN:VTIMEZONE
TZID:America/Sao_Paulo
BEGIN:STANDARD
TZOFFSETFROM:-0300
TZOFFSETTO:-0300
TZNAME:-03
DTSTART:20200101T000000
END:STANDARD
END:VTIMEZONE
BEGIN:VEVENT
DTSTART;TZID=America/Sao_Paulo:20200202T160000
DTEND;TZID=America/Sao_Paulo:20200202T180000
DTSTAMP:20260425T191752
CREATED:20200204T124104Z
LAST-MODIFIED:20200204T124104Z
UID:3874-1580659200-1580666400@circulomagico.com.br
SUMMARY:Palestra Canalizada
DESCRIPTION:As palestras são realizadas pelo Mentor Romero Salazar e canalizadas por Maria Guida. Este evento é gratuito e aberto a todos. Para saber mais\, visite a página das Palestras Canalizadas.
URL:https://circulomagico.com.br/agenda/palestra-canalizada-2/
LOCATION:Instituto Círculo Mágico\, Rua Ambrosina de Macedo\, 74\, São Paulo\, SP
CATEGORIES:Palestras canalizadas
END:VEVENT
END:VCALENDAR