BEGIN:VCALENDAR
VERSION:2.0
PRODID:-//Instituto Círculo Mágico - ECPv5.3.0//NONSGML v1.0//EN
CALSCALE:GREGORIAN
METHOD:PUBLISH
X-WR-CALNAME:Instituto Círculo Mágico
X-ORIGINAL-URL:https://circulomagico.com.br
X-WR-CALDESC:Eventos para Instituto Círculo Mágico
BEGIN:VTIMEZONE
TZID:America/Sao_Paulo
BEGIN:STANDARD
TZOFFSETFROM:-0200
TZOFFSETTO:-0300
TZNAME:-03
DTSTART:20180218T020000
END:STANDARD
BEGIN:DAYLIGHT
TZOFFSETFROM:-0300
TZOFFSETTO:-0200
TZNAME:-02
DTSTART:20181104T030000
END:DAYLIGHT
END:VTIMEZONE
BEGIN:VEVENT
DTSTART;TZID=America/Sao_Paulo:20181007T160000
DTEND;TZID=America/Sao_Paulo:20181007T180000
DTSTAMP:20260420T172247
CREATED:20181006T125002Z
LAST-MODIFIED:20181006T125002Z
UID:2586-1538928000-1538935200@circulomagico.com.br
SUMMARY:Palestra Canalizada
DESCRIPTION:As palestras são realizadas pelo Mentor Romero Salazar e canalizadas por Maria Guida. Este evento é gratuito e aberto a todos. \nPara saber mais\, visite a página das Palestras Canalizadas.
URL:https://circulomagico.com.br/agenda/palestra-canalizada-2018-10-07/
LOCATION:Instituto Círculo Mágico\, Rua Ambrosina de Macedo\, 74\, São Paulo\, SP
CATEGORIES:Palestras canalizadas
END:VEVENT
END:VCALENDAR