BEGIN:VCALENDAR
VERSION:2.0
PRODID:-//Instituto Círculo Mágico - ECPv5.3.0//NONSGML v1.0//EN
CALSCALE:GREGORIAN
METHOD:PUBLISH
X-WR-CALNAME:Instituto Círculo Mágico
X-ORIGINAL-URL:https://circulomagico.com.br
X-WR-CALDESC:Eventos para Instituto Círculo Mágico
BEGIN:VTIMEZONE
TZID:America/Sao_Paulo
BEGIN:STANDARD
TZOFFSETFROM:-0300
TZOFFSETTO:-0300
TZNAME:-03
DTSTART:20200101T000000
END:STANDARD
END:VTIMEZONE
BEGIN:VEVENT
DTSTART;TZID=America/Sao_Paulo:20200202T140000
DTEND;TZID=America/Sao_Paulo:20200202T153000
DTSTAMP:20260425T160255
CREATED:20200211T112530Z
LAST-MODIFIED:20200211T112530Z
UID:3882-1580652000-1580657400@circulomagico.com.br
SUMMARY:Palestra: "A experiência com ervas e cristais"
DESCRIPTION:A palestra será ministrada pelo oraculista Aparecido de Sant’Anna. \nEste evento é gratuito e aberto.
URL:https://circulomagico.com.br/agenda/palestra-cristais-2020-02-02/
LOCATION:Casa em frente à sede do Instituto Círculo Mágico\, Rua Ambrosina de Macedo\, 107\, São Paulo\, SP\, Brasil
CATEGORIES:Palestras
END:VEVENT
END:VCALENDAR