BEGIN:VCALENDAR
VERSION:2.0
PRODID:-//Instituto Círculo Mágico - ECPv5.3.0//NONSGML v1.0//EN
CALSCALE:GREGORIAN
METHOD:PUBLISH
X-WR-CALNAME:Instituto Círculo Mágico
X-ORIGINAL-URL:https://circulomagico.com.br
X-WR-CALDESC:Eventos para Instituto Círculo Mágico
BEGIN:VTIMEZONE
TZID:America/Sao_Paulo
BEGIN:STANDARD
TZOFFSETFROM:-0200
TZOFFSETTO:-0300
TZNAME:-03
DTSTART:20180218T020000
END:STANDARD
BEGIN:DAYLIGHT
TZOFFSETFROM:-0300
TZOFFSETTO:-0200
TZNAME:-02
DTSTART:20181104T030000
END:DAYLIGHT
END:VTIMEZONE
BEGIN:VEVENT
DTSTART;TZID=America/Sao_Paulo:20180916T090000
DTEND;TZID=America/Sao_Paulo:20180916T180000
DTSTAMP:20260420T110423
CREATED:20180823T133835Z
LAST-MODIFIED:20180910T030645Z
UID:2501-1537088400-1537120800@circulomagico.com.br
SUMMARY:Iniciação em Reiki por Ilson Barros
DESCRIPTION:Através do Reiki é canalizada a Energia Vital do Universo\, que promove a cura natural\, harmonia e equilíbrio: físico\, mental\, emocional e espiritual. O Reiki é um método simples e eficaz redescoberto no Japão pelo mestre Mikao Usui\, hoje utilizado no mundo inteiro\, inclusive em hospitais e no SUS. \nNeste curso\, serão ativados os canais energéticos e apessoa poderá fazer a autoaplicação de Reiki\, bem como a aplicação nas outras pessoas\, em plantas\, animais e ambientes. \nO curso tem uma parte teórica e outra prática\, além de um ritual sagrado de iniciação. \nO curso disponibilizará apostila e certificado. Para quem já fez o curso\, é possível reciclá-lo. \nInteressados\, favor solicitar a inscrição por meio dos contatos abaixo. \nSejam bem-vindos! \nIlson Barros\nMestre Reiki e Terapeuta Holístico\nPós-graduado em Cuidados Integrativos pela UNIFESP\nTel: (11) 99682-9325\nilsonterapeuta@gmail.com
URL:https://circulomagico.com.br/agenda/reiki-2018-09-16/
LOCATION:Instituto Círculo Mágico\, Rua Ambrosina de Macedo\, 74\, São Paulo\, SP
CATEGORIES:Cursos
END:VEVENT
END:VCALENDAR