BEGIN:VCALENDAR
VERSION:2.0
PRODID:-//Instituto Círculo Mágico - ECPv5.3.0//NONSGML v1.0//EN
CALSCALE:GREGORIAN
METHOD:PUBLISH
X-WR-CALNAME:Instituto Círculo Mágico
X-ORIGINAL-URL:https://circulomagico.com.br
X-WR-CALDESC:Eventos para Instituto Círculo Mágico
BEGIN:VTIMEZONE
TZID:America/Sao_Paulo
BEGIN:STANDARD
TZOFFSETFROM:-0200
TZOFFSETTO:-0300
TZNAME:-03
DTSTART:20180218T020000
END:STANDARD
BEGIN:DAYLIGHT
TZOFFSETFROM:-0300
TZOFFSETTO:-0200
TZNAME:-02
DTSTART:20181104T030000
END:DAYLIGHT
END:VTIMEZONE
BEGIN:VEVENT
DTSTART;TZID=America/Sao_Paulo:20181215T130000
DTEND;TZID=America/Sao_Paulo:20181215T160000
DTSTAMP:20260421T140448
CREATED:20181202T122912Z
LAST-MODIFIED:20181202T122942Z
UID:2737-1544878800-1544889600@circulomagico.com.br
SUMMARY:II Reikontro
DESCRIPTION:O Grupo de Apoio Espiritual Maria Menina oferecerá atendimentos individuais e gratuitos de Reiki no próximo dia 15/12\, sábado\, das 13h às 16h. Para agendar seu horário\, basta acessar este site (vagas limitadas).
URL:https://circulomagico.com.br/agenda/reikontro-2018-11-15/
LOCATION:Instituto Círculo Mágico\, Rua Ambrosina de Macedo\, 74\, São Paulo\, SP
CATEGORIES:Encontros
END:VEVENT
END:VCALENDAR