BEGIN:VCALENDAR
VERSION:2.0
PRODID:-//Instituto Círculo Mágico - ECPv5.3.0//NONSGML v1.0//EN
CALSCALE:GREGORIAN
METHOD:PUBLISH
X-WR-CALNAME:Instituto Círculo Mágico
X-ORIGINAL-URL:https://circulomagico.com.br
X-WR-CALDESC:Eventos para Instituto Círculo Mágico
BEGIN:VTIMEZONE
TZID:America/Sao_Paulo
BEGIN:STANDARD
TZOFFSETFROM:-0200
TZOFFSETTO:-0300
TZNAME:-03
DTSTART:20180218T020000
END:STANDARD
BEGIN:DAYLIGHT
TZOFFSETFROM:-0300
TZOFFSETTO:-0200
TZNAME:-02
DTSTART:20181104T030000
END:DAYLIGHT
END:VTIMEZONE
BEGIN:VEVENT
DTSTART;TZID=America/Sao_Paulo:20180401T190000
DTEND;TZID=America/Sao_Paulo:20180401T203000
DTSTAMP:20260423T055717
CREATED:20180326T142644Z
LAST-MODIFIED:20180326T143916Z
UID:1952-1522609200-1522614600@circulomagico.com.br
SUMMARY:Vigília de Chama Violeta
DESCRIPTION:Ainda no contexto das comemorações pelo Ano Novo Astrológico\, faremos uma Vigília de Chama Violeta. O evento é gratuito e aberto a todos.
URL:https://circulomagico.com.br/agenda/vigilia-2018-04-01/
LOCATION:Instituto Círculo Mágico\, Rua Ambrosina de Macedo\, 74\, São Paulo\, SP
CATEGORIES:Vigílias
END:VEVENT
END:VCALENDAR